BEGIN:VCALENDAR
VERSION:2.0
PRODID:icalendar-ruby
CALSCALE:GREGORIAN
METHOD:PUBLISH
BEGIN:VEVENT
DTSTAMP:20260423T111222Z
UID:15-1020821@freedomofdundalk.com
DTSTART:20240430T230000Z
DTEND:20240501T003000Z
CLASS:PUBLIC
CREATED:20260423T064807
DESCRIPTION:
LAST-MODIFIED:20260423T064807
LOCATION:
SUMMARY:Men's Bible Study
URL;VALUE=URI:https://www.freedomofdundalk.com/events/mens-bible-study/2024
 -04-30
ATTACH;FILENAME=Men%27s-Ministry-%28Presentation%29.png;FMTTYPE=image/png:h
 ttps://dq5pwpg1q8ru0.cloudfront.net/2024/02/20/17/11/40/d64cb400-2075-4f35
 -b80a-5068b53087ee/Men%2527s-Ministry-%2528Presentation%2529.png
END:VEVENT
END:VCALENDAR
