BEGIN:VCALENDAR
VERSION:2.0
PRODID:icalendar-ruby
CALSCALE:GREGORIAN
METHOD:PUBLISH
BEGIN:VEVENT
DTSTAMP:20260420T012645Z
UID:32-1006665@freedomofdundalk.com
DTSTART:20261025T210000Z
DTEND:20261025T220000Z
CLASS:PUBLIC
CREATED:20260419T180908
DESCRIPTION:
LAST-MODIFIED:20260419T180908
LOCATION:7001 German Hill Rd
SUMMARY:Sunday Evening Bible Study
URL;VALUE=URI:https://www.freedomofdundalk.com/events/sunday-evening-bible-
 study/2026-10-25
ATTACH;FILENAME=55431A18-B493-4A33-8B65-62CD7B6E1AAC.png;FMTTYPE=image/png:
 https://dq5pwpg1q8ru0.cloudfront.net/2023/01/22/08/37/00/67bd1d17-7c2b-407
 c-8dfc-964b5c933dfd/55431A18-B493-4A33-8B65-62CD7B6E1AAC.png
END:VEVENT
END:VCALENDAR
