BEGIN:VCALENDAR
VERSION:2.0
PRODID:icalendar-ruby
CALSCALE:GREGORIAN
METHOD:PUBLISH
BEGIN:VEVENT
DTSTAMP:20260421T192734Z
UID:20-1014773@freedomofdundalk.com
DTSTART:20250325T230000Z
DTEND:20250326T003000Z
CLASS:PUBLIC
CREATED:20260421T143458
DESCRIPTION:
LAST-MODIFIED:20260421T143458
LOCATION:Freedom Baptist Church\, 7001 German Hill Rd. Dundalk\, MD 21222
SUMMARY:Women's Bible Study
URL;VALUE=URI:https://www.freedomofdundalk.com/events/womens-bible-study/20
 25-03-25
ATTACH;FILENAME=women%27s-Bible-Study.png;FMTTYPE=image/png:https://dq5pwpg
 1q8ru0.cloudfront.net/2022/10/10/12/36/36/94c817d2-c7e4-4929-821d-eb4dd075
 1bea/women%2527s-Bible-Study.png
END:VEVENT
END:VCALENDAR
